BEGIN:VCALENDAR
PRODID:-//Dokk 5//iCal4j 1.0//EN
VERSION:2.0
CALSCALE:GREGORIAN
BEGIN:VEVENT
DTSTAMP:20260419T144131Z
DTSTART;VALUE=DATE:20260318
DTEND;VALUE=DATE:20260320
SUMMARY:Outside Seminar in Yerevan
LOCATION:null
DESCRIPTION:
UID:90027a74-9ba3-4c62-9996-351828661e15
END:VEVENT
END:VCALENDAR
