BEGIN:VCALENDAR
PRODID:-//Dokk 5//iCal4j 1.0//EN
VERSION:2.0
CALSCALE:GREGORIAN
BEGIN:VEVENT
DTSTAMP:20260421T130322Z
DTSTART;VALUE=DATE:20260514
DTEND;VALUE=DATE:20260515
SUMMARY:Competition Lab for Judges
LOCATION:null
DESCRIPTION:
UID:aeed347e-1aa8-4314-83f9-4a73b6eca23a
END:VEVENT
END:VCALENDAR
