BEGIN:VCALENDAR
PRODID:-//Dokk 5//iCal4j 1.0//EN
VERSION:2.0
CALSCALE:GREGORIAN
BEGIN:VEVENT
DTSTAMP:20260419T144341Z
DTSTART;VALUE=DATE:20260225
DTEND;VALUE=DATE:20260227
SUMMARY:Core Seminar in Budapest
LOCATION:null
DESCRIPTION:
UID:06fb90a2-f7de-4c37-85a5-feb52a3fda1f
END:VEVENT
END:VCALENDAR
