BEGIN:VCALENDAR
PRODID:-//Dokk 5//iCal4j 1.0//EN
VERSION:2.0
CALSCALE:GREGORIAN
BEGIN:VEVENT
DTSTAMP:20260419T132120Z
DTSTART;VALUE=DATE:20241106
DTEND;VALUE=DATE:20241107
SUMMARY:GVH Staff Training
LOCATION:null
DESCRIPTION:
UID:e3d3eed6-cdd4-42c5-be6b-690bdee94b9f
END:VEVENT
END:VCALENDAR
