BEGIN:VCALENDAR
PRODID:-//Dokk 5//iCal4j 1.0//EN
VERSION:2.0
CALSCALE:GREGORIAN
BEGIN:VEVENT
DTSTAMP:20260421T165835Z
DTSTART;VALUE=DATE:20221110
DTEND;VALUE=DATE:20221111
SUMMARY:ЛАБОРАТОРИЯ КОНКУРЕНЦИИ ДЛЯ СУДЕЙ
LOCATION:Будапешт ()
DESCRIPTION:
UID:cbb0b7e9-2c06-4f7d-ad17-05f53ca6d99c
END:VEVENT
END:VCALENDAR
