BEGIN:VCALENDAR
PRODID:-//Dokk 5//iCal4j 1.0//EN
VERSION:2.0
CALSCALE:GREGORIAN
BEGIN:VEVENT
DTSTAMP:20260423T101430Z
DTSTART;VALUE=DATE:20220614
DTEND;VALUE=DATE:20220616
SUMMARY:Выездной семинар в Молдове: Промежуточные меры в делах о конкурен
 ции
LOCATION:Молдова ()
DESCRIPTION:
UID:0df76504-0601-477a-bd39-d290f8662e00
END:VEVENT
END:VCALENDAR
