BEGIN:VCALENDAR
PRODID:-//Dokk 5//iCal4j 1.0//EN
VERSION:2.0
CALSCALE:GREGORIAN
BEGIN:VEVENT
DTSTAMP:20260419T213627Z
DTSTART;VALUE=DATE:20201215
DTEND;VALUE=DATE:20201216
SUMMARY:Виртуальный семинар - Политика в области конкуренции для обеспече
 ния равных условий для частных и государственных компавний
LOCATION:Онлайн ()
DESCRIPTION:
UID:6d64770e-2a2f-47d8-b63c-707741a6e551
END:VEVENT
END:VCALENDAR
