BEGIN:VCALENDAR
PRODID:-//Dokk 5//iCal4j 1.0//EN
VERSION:2.0
CALSCALE:GREGORIAN
BEGIN:VEVENT
DTSTAMP:20260419T232849Z
DTSTART;VALUE=DATE:20150416
DTEND;VALUE=DATE:20150417
SUMMARY:GVH Staff Training
LOCATION:Budapest\, Hungary ()
DESCRIPTION:
UID:ff35943b-7d03-468c-b76a-66e3ee7716d8
END:VEVENT
END:VCALENDAR
