BEGIN:VCALENDAR
PRODID:-//Dokk 5//iCal4j 1.0//EN
VERSION:2.0
CALSCALE:GREGORIAN
BEGIN:VEVENT
DTSTAMP:20260419T233750Z
DTSTART;VALUE=DATE:20150922
DTEND;VALUE=DATE:20150924
SUMMARY:Outside Seminar in Georgia – Evidence in Cartel Cases
LOCATION:Georgia\, Tbilisi ()
DESCRIPTION:The availability and quality of evidence to be used in cartel
  cases is decisive for the successful initiation and completion of a car
 tel investigation. We will have a closer look at direct and indirect evi
 dence to be used in cartel cases and at ways of obtaining it. Topics to 
 discuss will be leniency systems\, screening instruments\, dawn raids an
 d interviews. This seminar will give insights into best practices of exp
 erienced OECD countries with the use of these instruments (preparation\,
  execution and assessment) and will provide opportunities to apply the l
 earnings in hypothetical case exercises.
UID:55e8f836-51db-4a70-bab2-4e0f57a6ec99
END:VEVENT
END:VCALENDAR
