BEGIN:VCALENDAR
PRODID:-//Dokk 5//iCal4j 1.0//EN
VERSION:2.0
CALSCALE:GREGORIAN
BEGIN:VEVENT
DTSTAMP:20260419T131036Z
DTSTART;VALUE=DATE:20190528
DTEND;VALUE=DATE:20190530
SUMMARY:Семинар РЦК-ФАС в России
LOCATION: ()
DESCRIPTION: подлежит уточнению 
UID:6315b576-89a4-4705-b295-ce83bbed38e4
END:VEVENT
END:VCALENDAR
